Package: rGADEM Version: 2.54.0 Command: /Library/Frameworks/R.framework/Resources/bin/R CMD INSTALL rGADEM StartedAt: 2025-01-27 15:40:56 -0500 (Mon, 27 Jan 2025) EndedAt: 2025-01-27 15:42:30 -0500 (Mon, 27 Jan 2025) EllapsedTime: 94.9 seconds RetCode: 0 Status: OK