Package: rGADEM Version: 2.54.0 Command: /Library/Frameworks/R.framework/Resources/bin/R CMD build --keep-empty-dirs --no-resave-data rGADEM StartedAt: 2025-01-27 21:57:11 -0500 (Mon, 27 Jan 2025) EndedAt: 2025-01-27 21:59:30 -0500 (Mon, 27 Jan 2025) EllapsedTime: 138.6 seconds RetCode: 0 Status: OK PackageFile: rGADEM_2.54.0.tar.gz PackageFileSize: 376.7 KiB