Package: rGADEM Version: 2.54.0 Command: rm -rf rGADEM.buildbin-libdir && mkdir rGADEM.buildbin-libdir && /Users/biocbuild/BBS/utils/build-universal.sh rGADEM_2.54.0.tar.gz /Library/Frameworks/R.framework/Resources/bin/R rGADEM.buildbin-libdir StartedAt: 2024-11-09 17:07:18 -0500 (Sat, 09 Nov 2024) EndedAt: 2024-11-09 17:07:38 -0500 (Sat, 09 Nov 2024) EllapsedTime: 19.3 seconds RetCode: 0 Status: OK PackageFile: rGADEM_2.54.0.tgz PackageFileSize: 679.8 KiB