Package: rDGIdb Version: 1.32.0 Command: /home/biocbuild/R/R/bin/R CMD build --keep-empty-dirs --no-resave-data rDGIdb StartedAt: 2025-02-04 02:09:13 -0000 (Tue, 04 Feb 2025) EndedAt: 2025-02-04 02:09:37 -0000 (Tue, 04 Feb 2025) EllapsedTime: 24.0 seconds RetCode: 1 Status: ERROR PackageFile: None PackageFileSize: NA