Package: rDGIdb Version: 1.32.0 Command: /Library/Frameworks/R.framework/Resources/bin/R CMD INSTALL rDGIdb StartedAt: 2025-03-31 15:20:24 -0400 (Mon, 31 Mar 2025) EndedAt: 2025-03-31 15:20:27 -0400 (Mon, 31 Mar 2025) EllapsedTime: 2.9 seconds RetCode: 0 Status: OK