Package: rCGH Version: 1.36.0 Command: /home/biocbuild/R/R/bin/R CMD INSTALL rCGH StartedAt: 2025-01-27 21:50:39 -0000 (Mon, 27 Jan 2025) EndedAt: 2025-01-27 21:51:36 -0000 (Mon, 27 Jan 2025) EllapsedTime: 57.3 seconds RetCode: 0 Status: OK