Package: rCGH Version: 1.36.0 Command: F:\biocbuild\bbs-3.20-bioc\R\bin\R.exe CMD INSTALL rCGH StartedAt: 2025-01-27 16:44:53 -0500 (Mon, 27 Jan 2025) EndedAt: 2025-01-27 16:45:56 -0500 (Mon, 27 Jan 2025) EllapsedTime: 63.2 seconds RetCode: 0 Status: OK