Package: rCGH Version: 1.36.0 Command: /Library/Frameworks/R.framework/Resources/bin/R CMD INSTALL rCGH StartedAt: 2025-01-27 16:24:37 -0500 (Mon, 27 Jan 2025) EndedAt: 2025-01-27 16:26:14 -0500 (Mon, 27 Jan 2025) EllapsedTime: 96.7 seconds RetCode: 0 Status: OK