Package: rCGH Version: 1.36.0 Command: /Library/Frameworks/R.framework/Resources/bin/R CMD INSTALL rCGH StartedAt: 2024-11-19 15:36:46 -0500 (Tue, 19 Nov 2024) EndedAt: 2024-11-19 15:37:49 -0500 (Tue, 19 Nov 2024) EllapsedTime: 62.8 seconds RetCode: 0 Status: OK