Package: rBiopaxParser Version: 2.46.0 Command: /home/biocbuild/R/R/bin/R CMD INSTALL rBiopaxParser StartedAt: 2025-02-03 20:22:25 -0000 (Mon, 03 Feb 2025) EndedAt: 2025-02-03 20:22:52 -0000 (Mon, 03 Feb 2025) EllapsedTime: 26.5 seconds RetCode: 0 Status: OK