Package: rBiopaxParser Version: 2.46.0 Command: F:\biocbuild\bbs-3.20-bioc\R\bin\R.exe CMD INSTALL rBiopaxParser StartedAt: 2025-01-27 15:27:25 -0500 (Mon, 27 Jan 2025) EndedAt: 2025-01-27 15:28:24 -0500 (Mon, 27 Jan 2025) EllapsedTime: 59.1 seconds RetCode: 0 Status: OK