Package: rBiopaxParser Version: 2.46.0 Command: /home/biocbuild/bbs-3.20-bioc/R/bin/R CMD check --install=check:rBiopaxParser.install-out.txt --library=/home/biocbuild/bbs-3.20-bioc/R/site-library --timings rBiopaxParser_2.46.0.tar.gz StartedAt: 2025-04-01 01:21:21 -0400 (Tue, 01 Apr 2025) EndedAt: 2025-04-01 01:22:03 -0400 (Tue, 01 Apr 2025) EllapsedTime: 42.2 seconds RetCode: 0 Status: OK CheckDir: rBiopaxParser.Rcheck Warnings: 0