Package: rBiopaxParser Version: 2.46.0 Command: /Library/Frameworks/R.framework/Resources/bin/R CMD check --install=check:rBiopaxParser.install-out.txt --library=/Library/Frameworks/R.framework/Resources/library --no-vignettes --timings rBiopaxParser_2.46.0.tar.gz StartedAt: 2025-04-01 07:43:59 -0400 (Tue, 01 Apr 2025) EndedAt: 2025-04-01 07:45:40 -0400 (Tue, 01 Apr 2025) EllapsedTime: 100.1 seconds RetCode: 0 Status: OK CheckDir: rBiopaxParser.Rcheck Warnings: 0