Package: rBiopaxParser Version: 2.46.0 Command: /Library/Frameworks/R.framework/Resources/bin/R CMD INSTALL rBiopaxParser StartedAt: 2025-01-27 15:06:05 -0500 (Mon, 27 Jan 2025) EndedAt: 2025-01-27 15:06:10 -0500 (Mon, 27 Jan 2025) EllapsedTime: 4.9 seconds RetCode: 0 Status: OK