Package: r3Cseq Version: 1.52.0 Command: /home/biocbuild/R/R/bin/R CMD INSTALL r3Cseq StartedAt: 2025-01-27 21:21:13 -0000 (Mon, 27 Jan 2025) EndedAt: 2025-01-27 21:22:07 -0000 (Mon, 27 Jan 2025) EllapsedTime: 53.3 seconds RetCode: 0 Status: OK