Package: r3Cseq Version: 1.52.0 Command: /home/biocbuild/bbs-3.20-bioc/R/bin/R CMD INSTALL r3Cseq StartedAt: 2025-02-03 15:30:57 -0500 (Mon, 03 Feb 2025) EndedAt: 2025-02-03 15:31:39 -0500 (Mon, 03 Feb 2025) EllapsedTime: 41.7 seconds RetCode: 0 Status: OK