Package: r3Cseq Version: 1.52.0 Command: rm -rf r3Cseq.buildbin-libdir && mkdir r3Cseq.buildbin-libdir && /Users/biocbuild/BBS/utils/build-universal.sh r3Cseq_1.52.0.tar.gz /Library/Frameworks/R.framework/Resources/bin/R r3Cseq.buildbin-libdir StartedAt: 2024-11-09 17:05:54 -0500 (Sat, 09 Nov 2024) EndedAt: 2024-11-09 17:06:11 -0500 (Sat, 09 Nov 2024) EllapsedTime: 17.3 seconds RetCode: 0 Status: OK PackageFile: r3Cseq_1.52.0.tgz PackageFileSize: 2.944 MiB