Package: r3Cseq Version: 1.52.0 Command: /Library/Frameworks/R.framework/Resources/bin/R CMD build --keep-empty-dirs --no-resave-data r3Cseq StartedAt: 2025-02-04 06:04:55 -0500 (Tue, 04 Feb 2025) EndedAt: 2025-02-04 06:07:36 -0500 (Tue, 04 Feb 2025) EllapsedTime: 161.8 seconds RetCode: 0 Status: OK PackageFile: r3Cseq_1.52.0.tar.gz PackageFileSize: 4.327 MiB