Package: qvalue Version: 2.38.0 Command: F:\biocbuild\bbs-3.20-bioc\R\bin\R.exe CMD INSTALL qvalue StartedAt: 2025-03-31 15:35:22 -0400 (Mon, 31 Mar 2025) EndedAt: 2025-03-31 15:35:36 -0400 (Mon, 31 Mar 2025) EllapsedTime: 14.0 seconds RetCode: 0 Status: OK