Package: qvalue Version: 2.38.0 Command: rm -rf qvalue.buildbin-libdir && mkdir qvalue.buildbin-libdir && /Users/biocbuild/BBS/utils/build-universal.sh qvalue_2.38.0.tar.gz /Library/Frameworks/R.framework/Resources/bin/R qvalue.buildbin-libdir StartedAt: 2025-04-02 15:46:36 -0400 (Wed, 02 Apr 2025) EndedAt: 2025-04-02 15:46:43 -0400 (Wed, 02 Apr 2025) EllapsedTime: 6.9 seconds RetCode: 0 Status: OK PackageFile: qvalue_2.38.0.tgz PackageFileSize: 2.683 MiB