Package: qusage Version: 2.40.0 Command: /home/biocbuild/R/R/bin/R CMD INSTALL qusage StartedAt: 2025-01-27 21:08:49 -0000 (Mon, 27 Jan 2025) EndedAt: 2025-01-27 21:09:07 -0000 (Mon, 27 Jan 2025) EllapsedTime: 17.4 seconds RetCode: 0 Status: OK