Package: qusage Version: 2.40.0 Command: /home/biocbuild/bbs-3.20-bioc/R/bin/R CMD INSTALL qusage StartedAt: 2025-03-31 15:13:19 -0400 (Mon, 31 Mar 2025) EndedAt: 2025-03-31 15:13:29 -0400 (Mon, 31 Mar 2025) EllapsedTime: 9.8 seconds RetCode: 0 Status: OK