Package: qusage Version: 2.40.0 Command: /Library/Frameworks/R.framework/Resources/bin/R CMD INSTALL qusage StartedAt: 2025-01-27 15:15:54 -0500 (Mon, 27 Jan 2025) EndedAt: 2025-01-27 15:16:12 -0500 (Mon, 27 Jan 2025) EllapsedTime: 18.2 seconds RetCode: 0 Status: OK