Package: qusage Version: 2.40.0 Command: rm -rf qusage.buildbin-libdir && mkdir qusage.buildbin-libdir && /Users/biocbuild/BBS/utils/build-universal.sh qusage_2.40.0.tar.gz /Library/Frameworks/R.framework/Resources/bin/R qusage.buildbin-libdir StartedAt: 2025-01-28 14:13:37 -0500 (Tue, 28 Jan 2025) EndedAt: 2025-01-28 14:14:22 -0500 (Tue, 28 Jan 2025) EllapsedTime: 45.6 seconds RetCode: 0 Status: OK PackageFile: qusage_2.40.0.tgz PackageFileSize: 9.83 MiB