Package: quantsmooth Version: 1.72.0 Command: /home/biocbuild/R/R/bin/R CMD INSTALL quantsmooth StartedAt: 2025-01-27 21:49:28 -0000 (Mon, 27 Jan 2025) EndedAt: 2025-01-27 21:49:35 -0000 (Mon, 27 Jan 2025) EllapsedTime: 7.5 seconds RetCode: 0 Status: OK