Package: quantro Version: 1.40.0 Command: /Library/Frameworks/R.framework/Resources/bin/R CMD INSTALL quantro StartedAt: 2025-02-03 17:58:14 -0500 (Mon, 03 Feb 2025) EndedAt: 2025-02-03 17:59:08 -0500 (Mon, 03 Feb 2025) EllapsedTime: 53.3 seconds RetCode: 0 Status: OK