Package: quantro Version: 1.40.0 Command: rm -rf quantro.buildbin-libdir && mkdir quantro.buildbin-libdir && /Users/biocbuild/BBS/utils/build-universal.sh quantro_1.40.0.tar.gz /Library/Frameworks/R.framework/Resources/bin/R quantro.buildbin-libdir StartedAt: 2025-02-05 17:15:41 -0500 (Wed, 05 Feb 2025) EndedAt: 2025-02-05 17:16:38 -0500 (Wed, 05 Feb 2025) EllapsedTime: 57.7 seconds RetCode: 0 Status: OK PackageFile: quantro_1.40.0.tgz PackageFileSize: 3.127 MiB