Package: quantiseqr Version: 1.14.0 Command: /home/biocbuild/R/R/bin/R CMD build --keep-empty-dirs --no-resave-data quantiseqr StartedAt: 2025-01-31 01:56:43 -0000 (Fri, 31 Jan 2025) EndedAt: 2025-01-31 01:58:18 -0000 (Fri, 31 Jan 2025) EllapsedTime: 95.1 seconds RetCode: 0 Status: OK PackageFile: quantiseqr_1.14.0.tar.gz PackageFileSize: 2.664 MiB