Package: quantiseqr Version: 1.14.0 Command: chmod a+r quantiseqr -R && F:\biocbuild\bbs-3.20-bioc\R\bin\R.exe CMD build --keep-empty-dirs --no-resave-data quantiseqr StartedAt: 2025-01-30 21:10:39 -0500 (Thu, 30 Jan 2025) EndedAt: 2025-01-30 21:18:23 -0500 (Thu, 30 Jan 2025) EllapsedTime: 463.7 seconds RetCode: 0 Status: OK PackageFile: quantiseqr_1.14.0.tar.gz PackageFileSize: 2.561 MiB