Package: quantiseqr Version: 1.14.0 Command: /Library/Frameworks/R.framework/Resources/bin/R CMD INSTALL quantiseqr StartedAt: 2025-01-30 15:19:46 -0500 (Thu, 30 Jan 2025) EndedAt: 2025-01-30 15:20:35 -0500 (Thu, 30 Jan 2025) EllapsedTime: 49.4 seconds RetCode: 0 Status: OK