Package: quantiseqr Version: 1.14.0 Command: /Library/Frameworks/R.framework/Resources/bin/R CMD build --keep-empty-dirs --no-resave-data quantiseqr StartedAt: 2025-01-30 22:02:38 -0500 (Thu, 30 Jan 2025) EndedAt: 2025-01-30 22:04:57 -0500 (Thu, 30 Jan 2025) EllapsedTime: 139.6 seconds RetCode: 0 Status: OK PackageFile: quantiseqr_1.14.0.tar.gz PackageFileSize: 3.611 MiB