Package: quantiseqr Version: 1.14.0 Command: /Library/Frameworks/R.framework/Resources/bin/R CMD build --keep-empty-dirs --no-resave-data quantiseqr StartedAt: 2025-01-31 05:52:02 -0500 (Fri, 31 Jan 2025) EndedAt: 2025-01-31 05:53:13 -0500 (Fri, 31 Jan 2025) EllapsedTime: 70.6 seconds RetCode: 0 Status: OK PackageFile: quantiseqr_1.14.0.tar.gz PackageFileSize: 3.654 MiB