Package: quantiseqr Version: 1.14.0 Command: rm -rf quantiseqr.buildbin-libdir && mkdir quantiseqr.buildbin-libdir && /Users/biocbuild/BBS/utils/build-universal.sh quantiseqr_1.14.0.tar.gz /Library/Frameworks/R.framework/Resources/bin/R quantiseqr.buildbin-libdir StartedAt: 2025-02-01 16:19:58 -0500 (Sat, 01 Feb 2025) EndedAt: 2025-02-01 16:20:27 -0500 (Sat, 01 Feb 2025) EllapsedTime: 29.2 seconds RetCode: 0 Status: OK PackageFile: quantiseqr_1.14.0.tgz PackageFileSize: 3.608 MiB