Package: qsvaR Version: 1.10.0 Command: /home/biocbuild/R/R/bin/R CMD INSTALL qsvaR StartedAt: 2025-01-27 21:49:52 -0000 (Mon, 27 Jan 2025) EndedAt: 2025-01-27 21:50:29 -0000 (Mon, 27 Jan 2025) EllapsedTime: 36.6 seconds RetCode: 0 Status: OK