Package: qsvaR Version: 1.10.0 Command: /Library/Frameworks/R.framework/Resources/bin/R CMD INSTALL qsvaR StartedAt: 2025-01-27 16:23:25 -0500 (Mon, 27 Jan 2025) EndedAt: 2025-01-27 16:24:28 -0500 (Mon, 27 Jan 2025) EllapsedTime: 63.0 seconds RetCode: 0 Status: OK