Package: qsmooth Version: 1.22.0 Command: /home/biocbuild/R/R/bin/R CMD build --keep-empty-dirs --no-resave-data qsmooth StartedAt: 2025-02-04 02:00:57 -0000 (Tue, 04 Feb 2025) EndedAt: 2025-02-04 02:02:16 -0000 (Tue, 04 Feb 2025) EllapsedTime: 79.1 seconds RetCode: 0 Status: OK PackageFile: qsmooth_1.22.0.tar.gz PackageFileSize: 961.3 KiB