Package: qsmooth Version: 1.22.0 Command: chmod a+r qsmooth -R && F:\biocbuild\bbs-3.20-bioc\R\bin\R.exe CMD build --keep-empty-dirs --no-resave-data qsmooth StartedAt: 2025-01-27 21:15:46 -0500 (Mon, 27 Jan 2025) EndedAt: 2025-01-27 21:17:30 -0500 (Mon, 27 Jan 2025) EllapsedTime: 103.9 seconds RetCode: 0 Status: OK PackageFile: qsmooth_1.22.0.tar.gz PackageFileSize: 769.9 KiB