Package: qsmooth Version: 1.22.0 Command: /home/biocbuild/bbs-3.20-bioc/R/bin/R CMD INSTALL qsmooth StartedAt: 2025-03-31 15:48:12 -0400 (Mon, 31 Mar 2025) EndedAt: 2025-03-31 15:48:41 -0400 (Mon, 31 Mar 2025) EllapsedTime: 29.2 seconds RetCode: 0 Status: OK