Package: qsmooth Version: 1.22.0 Command: /Library/Frameworks/R.framework/Resources/bin/R CMD check --install=check:qsmooth.install-out.txt --library=/Library/Frameworks/R.framework/Resources/library --no-vignettes --timings qsmooth_1.22.0.tar.gz StartedAt: 2025-01-28 08:37:37 -0500 (Tue, 28 Jan 2025) EndedAt: 2025-01-28 08:44:56 -0500 (Tue, 28 Jan 2025) EllapsedTime: 439.2 seconds RetCode: 0 Status: WARNINGS CheckDir: qsmooth.Rcheck Warnings: 1