Package: qsmooth Version: 1.22.0 Command: /Library/Frameworks/R.framework/Resources/bin/R CMD build --keep-empty-dirs --no-resave-data qsmooth StartedAt: 2025-01-27 21:44:41 -0500 (Mon, 27 Jan 2025) EndedAt: 2025-01-27 21:46:58 -0500 (Mon, 27 Jan 2025) EllapsedTime: 137.1 seconds RetCode: 0 Status: OK PackageFile: qsmooth_1.22.0.tar.gz PackageFileSize: 1.3 MiB