Package: qsmooth Version: 1.22.0 Command: rm -rf qsmooth.buildbin-libdir && mkdir qsmooth.buildbin-libdir && /Users/biocbuild/BBS/utils/build-universal.sh qsmooth_1.22.0.tar.gz /Library/Frameworks/R.framework/Resources/bin/R qsmooth.buildbin-libdir StartedAt: 2025-01-29 16:02:19 -0500 (Wed, 29 Jan 2025) EndedAt: 2025-01-29 16:03:00 -0500 (Wed, 29 Jan 2025) EllapsedTime: 40.9 seconds RetCode: 0 Status: OK PackageFile: qsmooth_1.22.0.tgz PackageFileSize: 1.464 MiB