Package: qsea Version: 1.32.0 Command: /home/biocbuild/bbs-3.20-bioc/R/bin/R CMD check --install=check:qsea.install-out.txt --library=/home/biocbuild/bbs-3.20-bioc/R/site-library --timings qsea_1.32.0.tar.gz StartedAt: 2025-01-28 02:13:35 -0500 (Tue, 28 Jan 2025) EndedAt: 2025-01-28 02:18:34 -0500 (Tue, 28 Jan 2025) EllapsedTime: 299.4 seconds RetCode: 0 Status: WARNINGS CheckDir: qsea.Rcheck Warnings: 1