Package: qsea Version: 1.32.0 Command: /Library/Frameworks/R.framework/Resources/bin/R CMD INSTALL qsea StartedAt: 2025-01-27 16:23:20 -0500 (Mon, 27 Jan 2025) EndedAt: 2025-01-27 16:23:59 -0500 (Mon, 27 Jan 2025) EllapsedTime: 39.7 seconds RetCode: 0 Status: OK