Package: qsea Version: 1.32.0 Command: rm -rf qsea.buildbin-libdir && mkdir qsea.buildbin-libdir && /Users/biocbuild/BBS/utils/build-universal.sh qsea_1.32.0.tar.gz /Library/Frameworks/R.framework/Resources/bin/R qsea.buildbin-libdir StartedAt: 2025-01-29 16:01:59 -0500 (Wed, 29 Jan 2025) EndedAt: 2025-01-29 16:02:43 -0500 (Wed, 29 Jan 2025) EllapsedTime: 43.1 seconds RetCode: 0 Status: OK PackageFile: qsea_1.32.0.tgz PackageFileSize: 1.107 MiB