Package: qpgraph Version: 2.40.0 Command: /Library/Frameworks/R.framework/Resources/bin/R CMD INSTALL qpgraph StartedAt: 2025-01-27 16:00:05 -0500 (Mon, 27 Jan 2025) EndedAt: 2025-01-27 16:01:09 -0500 (Mon, 27 Jan 2025) EllapsedTime: 64.7 seconds RetCode: 0 Status: OK