Package: qmtools Version: 1.10.0 Command: /Library/Frameworks/R.framework/Resources/bin/R CMD check --install=check:qmtools.install-out.txt --library=/Library/Frameworks/R.framework/Resources/library --no-vignettes --timings qmtools_1.10.0.tar.gz StartedAt: 2025-02-04 08:24:11 -0500 (Tue, 04 Feb 2025) EndedAt: 2025-02-04 08:31:34 -0500 (Tue, 04 Feb 2025) EllapsedTime: 443.8 seconds RetCode: 0 Status: OK CheckDir: qmtools.Rcheck Warnings: 0