Package: qmtools Version: 1.10.0 Command: /home/biocbuild/R/R/bin/R CMD build --keep-empty-dirs --no-resave-data qmtools StartedAt: 2024-11-20 03:07:35 -0000 (Wed, 20 Nov 2024) EndedAt: 2024-11-20 03:08:42 -0000 (Wed, 20 Nov 2024) EllapsedTime: 67.1 seconds RetCode: 0 Status: OK PackageFile: qmtools_1.10.0.tar.gz PackageFileSize: 877.7 KiB