Package: qcmetrics Version: 1.44.0 Command: F:\biocbuild\bbs-3.20-bioc\R\bin\R.exe CMD INSTALL qcmetrics StartedAt: 2025-03-31 15:36:47 -0400 (Mon, 31 Mar 2025) EndedAt: 2025-03-31 15:37:21 -0400 (Mon, 31 Mar 2025) EllapsedTime: 33.9 seconds RetCode: 0 Status: OK