Package: qcmetrics Version: 1.44.0 Command: /Library/Frameworks/R.framework/Resources/bin/R CMD INSTALL qcmetrics StartedAt: 2025-03-31 16:18:47 -0400 (Mon, 31 Mar 2025) EndedAt: 2025-03-31 16:18:55 -0400 (Mon, 31 Mar 2025) EllapsedTime: 8.6 seconds RetCode: 0 Status: OK