Package: qcmetrics Version: 1.44.0 Maintainer: Laurent Gatto MaintainerEmail: laurent.gatto at uclouvain.be git_url: https://git.bioconductor.org/packages/qcmetrics git_branch: RELEASE_3_20 git_last_commit: c5d48ad git_last_commit_date: 2024-10-29 09:48:52 -0500 (Tue, 29 Oct 2024)